BEGIN:VCALENDAR
VERSION:2.0
PRODID:-//The Dominion HOA - ECPv6.15.20//NONSGML v1.0//EN
CALSCALE:GREGORIAN
METHOD:PUBLISH
X-WR-CALNAME:The Dominion HOA
X-ORIGINAL-URL:https://dominionhoa.com
X-WR-CALDESC:Events for The Dominion HOA
REFRESH-INTERVAL;VALUE=DURATION:PT1H
X-Robots-Tag:noindex
X-PUBLISHED-TTL:PT1H
BEGIN:VTIMEZONE
TZID:America/Chicago
BEGIN:DAYLIGHT
TZOFFSETFROM:-0600
TZOFFSETTO:-0500
TZNAME:CDT
DTSTART:20240310T080000
END:DAYLIGHT
BEGIN:STANDARD
TZOFFSETFROM:-0500
TZOFFSETTO:-0600
TZNAME:CST
DTSTART:20241103T070000
END:STANDARD
BEGIN:DAYLIGHT
TZOFFSETFROM:-0600
TZOFFSETTO:-0500
TZNAME:CDT
DTSTART:20250309T080000
END:DAYLIGHT
BEGIN:STANDARD
TZOFFSETFROM:-0500
TZOFFSETTO:-0600
TZNAME:CST
DTSTART:20251102T070000
END:STANDARD
BEGIN:DAYLIGHT
TZOFFSETFROM:-0600
TZOFFSETTO:-0500
TZNAME:CDT
DTSTART:20260308T080000
END:DAYLIGHT
BEGIN:STANDARD
TZOFFSETFROM:-0500
TZOFFSETTO:-0600
TZNAME:CST
DTSTART:20261101T070000
END:STANDARD
END:VTIMEZONE
BEGIN:VEVENT
DTSTART;TZID=America/Chicago:20250604T180000
DTEND;TZID=America/Chicago:20250604T200000
DTSTAMP:20260424T215641
CREATED:20250603T205106Z
LAST-MODIFIED:20250603T205452Z
UID:75449-1749060000-1749067200@dominionhoa.com
SUMMARY:Barks & Bites Pt. 2
DESCRIPTION:
URL:https://dominionhoa.com/event/barks-bites-pt-2/
CATEGORIES:Community,Family Event
ATTACH;FMTTYPE=image/png:https://dominionhoa.com/wp-content/uploads/2025/06/2025-Event-Flyers-5.png
END:VEVENT
BEGIN:VEVENT
DTSTART;TZID=America/Chicago:20250620T180000
DTEND;TZID=America/Chicago:20250620T200000
DTSTAMP:20260424T215641
CREATED:20250603T204540Z
LAST-MODIFIED:20250603T205412Z
UID:75432-1750442400-1750449600@dominionhoa.com
SUMMARY:School's Out Pop Up Event
DESCRIPTION:
URL:https://dominionhoa.com/event/schools-out-pop-up-event/
LOCATION:The Dominion Homeowners Association\, 20 Dominion Dr\, Texas 78257\, San Antonio\, TX\, 78257\, United States
CATEGORIES:Community,Family Event
ATTACH;FMTTYPE=image/png:https://dominionhoa.com/wp-content/uploads/2025/06/2025-Event-Flyers-4.png
END:VEVENT
END:VCALENDAR